Workbook

Sheet 집계표 
A1: 과 장 | C1: 담 당 | E1: 심사자 | G1: 설계자 | H1: 건축사 | J1: 조사자 | L1: 설계년월 | N1: 건축사사무소
A2: 공 사 비 총 괄 표
A3: 공 사 명 | E3: 송강학숙1호관 승강기 하향 증축공사(건축)
A4: 공 사 금 액 | E4: =O16 -> 0 | H4: 원 | I4: ="(금액:"&NUMBERSTRING(O16,1)&"원정)" -> (금액:영원정)
A5: 명 칭 | E5: 규 격 | H5: 수 | I5: 량 | J5: 도 급 액 | L5: 관 급 자 재 비 | N5: 각종분담금 | O5: 계
H6: 단위 | I6: 수량
A7: 01 | B7: 건축공사 | H7: 식 | I7: 1 | J7: =원가계산서!E30 -> 0 | O7: =J7+L7+N7 -> 0 | P7: =[1]원가계산서!E31 -> 142770538 | Q7: =O7-P7 -> -142770538
O8: =J8+L8+N8 -> 0 | Q8: =O8-P8 -> 0
O9: =J9+L9+N9 -> 0 | Q9: =O9-P9 -> 0
O10: =J10+L10+N10 -> 0 | Q10: =O10-P10 -> 0
A16: 총 공 사 금 액 | J16: =SUM(J7:J15) -> 0 | L16: =SUM(L7:L15) -> 0 | N16: =SUM(N7:N15) -> 0 | O16: =SUM(O7:O15) -> 0

Sheet 원가계산서
B1: 공 사 원 가 계 산 서
B2: 공사명 : 송강학숙1호관 승강기 하향 증축공사(건축) | F2: =" 금 액 : 일금"&NUMBERSTRING(E31,1)&"원정("&DOLLAR(E31,0)&")" -> 금 액 : 일금영원정(₩0)
B3: 비 목 | E3: 금 액 | F3: 구 성 비 | G3: 비 고
A4: A1 | B4: 순 공 사 원 가 | C4: 재 료 비 | D4: 직 접 재 료 비
A5: A2 | D5: 간 접 재 료 비
A6: A3 | D6: 작업설, 부산물(△)
A7: AS | D7: [ 소 계 ]
A8: B1 | C8: 노 무 비 | D8: 직 접 노 무 비
A9: B2 | D9: 간 접 노 무 비 | F9: 직접노무비 * 13%
A10: BS | D10: [ 소 계 ]
A11: C2 | C11: 경 비 | D11: 기 계 경 비
A12: C4 | D12: 산 재 보 험 료 | E12: 1100027 | F12: 노무비 * 3.7% | G12: 금액 조정없이 반영
A13: C5 | D13: 고 용 보 험 료 | E13: 258655 | F13: 노무비 * 0.87% | G13: 금액 조정없이 반영
A14: C6 | D14: 국민 건강 보험료 | E14: 902437 | F14: 직접노무비 * 3.43% | G14: 금액 조정없이 반영(사후정산)
A15: CB | D15: 노인장기요양보험료 | E15: 103960 | F15: 건강보험료 * 11.52% | G15: 금액 조정없이 반영(사후정산)
A16: C7 | D16: 국민 연금 보험료 | E16: 1183956 | F16: 직접노무비 * 4.5% | G16: 금액 조정없이 반영(사후정산)
A17: C8 | D17: 퇴직 공제 부금비 | E17: 605133 | F17: 직접노무비 * 2.3% | G17: 금액 조정없이 반영(사후정산)
A18: CA | D18: 산업안전보건관리비 | E18: 2905586 | F18: (재료비+직노+도급자관급/1.1) * 2.93% | G18: 금액 조정없이 반영(사후정산)
A19: CH | D19: 환 경 보 전 비 | F19: (재료비+직노+기계경비) * 0.3%
A20: CG | D20: 기 타 경 비 | F20: (재료비+노무비) * 5.8%
A21: CK | D21: 하도급지급보증수수료 | F21: (재료비+직노+기계경비) * 0.08%
A22: CL | D22: 건설기계대여금지급보증서발급수수료 | F22: (재료비+직노+기계경비) * 0.07%
A23: CS | D23: [ 소 계 ]
A24: S1 | B24: 계
A25: D1 | B25: 일 반 관 리 비 | F25: 계 * 6%
A26: D2 | B26: 이 윤 | F26: (노무비+경비+일반관리비) * 15%
A27: D7 | B27: 폐 기 물 처 리
A28: D9 | B28: 공 급 가 액
A29: DB | B29: 부 가 가 치 세 | F29: 공급가액 * 10%
A30: DH | B30: 도 급 액
A31: S2 | B31: 총 공 사 비

Sheet 공종별집계표
A1: 공 종 별 집 계 표
A2: [ 송강학숙1호관 승강기 하향 증축공사(건축) ]
A3: 품 명 | B3: 규 격 | C3: 단위 | D3: 수량 | E3: 재 료 비 | G3: 노 무 비 | I3: 경 비 | K3: 합 계 | M3: 비 고 | N3: 공종코드 | O3: 변수 | P3: 상위공종 | Q3: 공종구분 | R3: 공종레벨 | S3: 공종소계 | T3: 원가계산서 연결금액
E4: 단 가 | F4: 금 액 | G4: 단 가 | H4: 금 액 | I4: 단 가 | J4: 금 액 | K4: 단 가 | L4: 금 액
A5: 01 송강학숙1호관 승강기 하향 증축 실시설계 | D5: 1 | E5: =F6 -> 0 | F5: =E5*D5 -> 0 | G5: =H6 -> 0 | H5: =G5*D5 -> 0 | I5: =J6 -> 0 | J5: =I5*D5 -> 0 | K5: =E5+G5+I5 -> 0 | L5: =F5+H5+J5 -> 0 | N5: 01 | R5: 1
A6: 0101 ▶ 건 축 공 사 ◀ | D6: 1 | E6: =F7+F8+F9+F10+F11+F12+F13+F14+F15+F16 -> 0 | F6: =E6*D6 -> 0 | G6: =H7+H8+H9+H10+H11+H12+H13+H14+H15+H16 -> 0 | H6: =G6*D6 -> 0 | I6: =J7+J8+J9+J10+J11+J12+J13+J14+J15+J16 -> 0 | J6: =I6*D6 -> 0 | K6: =E6+G6+I6 -> 0 | L6: =F6+H6+J6 -> 0 | N6: 0101 | P6: 01 | R6: 2
A7: 010101 ▶ 비계·구조물해체공사업 | D7: 1 | E7: =공종별내역서!F29 -> 0 | F7: =E7*D7 -> 0 | G7: =공종별내역서!H29 -> 0 | H7: =G7*D7 -> 0 | I7: =공종별내역서!J29 -> 0 | J7: =I7*D7 -> 0 | K7: =E7+G7+I7 -> 0 | L7: =F7+H7+J7 -> 0 | N7: 010101 | P7: 0101 | R7: 3
A8: 010102 ▶ 철근·콘크리트공사업 | D8: 1 | E8: =공종별내역서!F55 -> 0 | F8: =E8*D8 -> 0 | G8: =공종별내역서!H55 -> 0 | H8: =G8*D8 -> 0 | I8: =공종별내역서!J55 -> 0 | J8: =I8*D8 -> 0 | K8: =E8+G8+I8 -> 0 | L8: =F8+H8+J8 -> 0 | N8: 010102 | P8: 0101 | R8: 3
A9: 010103 ▶ 습식·방수공사업 | D9: 1 | E9: =공종별내역서!F81 -> 0 | F9: =E9*D9 -> 0 | G9: =공종별내역서!H81 -> 0 | H9: =G9*D9 -> 0 | I9: =공종별내역서!J81 -> 0 | J9: =I9*D9 -> 0 | K9: =E9+G9+I9 -> 0 | L9: =F9+H9+J9 -> 0 | N9: 010103 | P9: 0101 | R9: 3
A10: 010104 ▶ 금속구조물·창호·온실공사업 | D10: 1 | E10: =공종별내역서!F107 -> 0 | F10: =E10*D10 -> 0 | G10: =공종별내역서!H107 -> 0 | H10: =G10*D10 -> 0 | I10: =공종별내역서!J107 -> 0 | J10: =I10*D10 -> 0 | K10: =E10+G10+I10 -> 0 | L10: =F10+H10+J10 -> 0 | N10: 010104 | P10: 0101 | R10: 3
A11: 010105 ▶ 지붕판금·건축물조립공사업 | D11: 1 | E11: =공종별내역서!F133 -> 0 | F11: =E11*D11 -> 0 | G11: =공종별내역서!H133 -> 0 | H11: =G11*D11 -> 0 | I11: =공종별내역서!J133 -> 0 | J11: =I11*D11 -> 0 | K11: =E11+G11+I11 -> 0 | L11: =F11+H11+J11 -> 0 | N11: 010105 | P11: 0101 | R11: 3
A12: 010106 ▶ 실내건축공사업 | D12: 1 | E12: =공종별내역서!F159 -> 0 | F12: =E12*D12 -> 0 | G12: =공종별내역서!H159 -> 0 | H12: =G12*D12 -> 0 | I12: =공종별내역서!J159 -> 0 | J12: =I12*D12 -> 0 | K12: =E12+G12+I12 -> 0 | L12: =F12+H12+J12 -> 0 | N12: 010106 | P12: 0101 | R12: 3
A13: 010107 ▶ 도장공사업 | D13: 1 | E13: =공종별내역서!F185 -> 0 | F13: =E13*D13 -> 0 | G13: =공종별내역서!H185 -> 0 | H13: =G13*D13 -> 0 | I13: =공종별내역서!J185 -> 0 | J13: =I13*D13 -> 0 | K13: =E13+G13+I13 -> 0 | L13: =F13+H13+J13 -> 0 | N13: 010107 | P13: 0101 | R13: 3
A14: 010108 ▶ ELEV | D14: 1 | E14: =공종별내역서!F211 -> 0 | F14: =E14*D14 -> 0 | G14: =공종별내역서!H211 -> 0 | H14: =G14*D14 -> 0 | I14: =공종별내역서!J211 -> 0 | J14: =I14*D14 -> 0 | K14: =E14+G14+I14 -> 0 | L14: =F14+H14+J14 -> 0 | N14: 010108 | P14: 0101 | R14: 3
A15: 010109 ▶ 골재대 및 운반비 | D15: 1 | E15: =공종별내역서!F237 -> 0 | F15: =E15*D15 -> 0 | G15: =공종별내역서!H237 -> 0 | H15: =G15*D15 -> 0 | I15: =공종별내역서!J237 -> 0 | J15: =I15*D15 -> 0 | K15: =E15+G15+I15 -> 0 | L15: =F15+H15+J15 -> 0 | N15: 010109 | P15: 0101 | R15: 3
A16: 010110 ▶ 작업부산물 | D16: 1 | E16: =공종별내역서!F263 -> 0 | F16: =E16*D16 -> 0 | G16: =공종별내역서!H263 -> 0 | H16: =G16*D16 -> 0 | I16: =공종별내역서!J263 -> 0 | J16: =I16*D16 -> 0 | K16: =E16+G16+I16 -> 0 | L16: =F16+H16+J16 -> 0 | N16: 010110 | P16: 0101 | R16: 3
A17: 010111 ▶ 폐기물처리비 | D17: 1 | E17: =공종별내역서!F289 -> 0 | F17: =E17*D17 -> 0 | G17: =공종별내역서!H289 -> 0 | H17: =G17*D17 -> 0 | I17: =공종별내역서!J289 -> 0 | J17: =I17*D17 -> 0 | K17: =E17+G17+I17 -> 0 | L17: =F17+H17+J17 -> 0 | N17: 010111 | Q17: 6 | R17: 3 | T17: =L17*1 -> 0
A29: [ 합 계 ] | F29: =F5 -> 0 | H29: =H5 -> 0 | J29: =J5 -> 0 | L29: =L5 -> 0

Sheet 공종별내역서
A1: [ 송강학숙1호관 승강기 하향 증축공사(건축) ]
A2: 품 명 | B2: 규 격 | C2: 단위 | D2: 수량 | E2: 재 료 비 | G2: 노 무 비 | I2: 경 비 | K2: 합 계 | M2: 비 고 | N2: 품목코드 | O2: 변수 | P2: 설정 | Q2: 공종코드 | R2: 일위 | S2: 단산 | T2: 자재 | U2: 손료적용 | V2: 손료저장 | W2: 적용율 | X2: JUK1 | Y2: JUK2 | Z2: JUK3 | AA2: JUK4 | AB2: JUK5 | AC2: JUK6 | AD2: JUK7 | AE2: JUK8 | AF2: JUK9 | AG2: JUK10 | AH2: JUK11 | AI2: JUK12 | AJ2: JUK13 | AK2: JUK14 | AL2: JUK15 | AM2: JUK16 | AN2: JUK17 | AO2: JUK18 | AP2: JUK19 | AQ2: JUK20 | AR2: 자재구분 | AS2: 공종구분 | AT2: 공종레벨 | AU2: 공종+자재 | AV2: 고유번호
E3: 단 가 | F3: 금 액 | G3: 단 가 | H3: 금 액 | I3: 단 가 | J3: 금 액 | K3: 단 가 | L3: 금 액
A4: 010101 ▶ 비계·구조물해체공사업 | Q4: 010101
A5: ◇ 가 설 공 사 | N5: 5D09933552BAF4CB88B1F1E2609E3F738A031B | Q5: 010101 | R5: F | S5: F | T5: T | AU5: 0101015D09933552BAF4CB88B1F1E2609E3F738A031B | AV5: 1047
A6: 강관 조립말비계(이동식)설치 및 해체 | B6: 높이 2m, 3개월 | C6: 대 | D6: 2 | N6: 5CB1734A51EEA41EF8D86338908EAC | Q6: 010101 | R6: T | S6: F | T6: F | AU6: 0101015CB1734A51EEA41EF8D86338908EAC | AV6: 1051
A7: 건축물 현장정리 | B7: 보통인부 | C7: 인 | D7: 2 | N7: 5CB1734F59E314F4280DEAEA10E5F6 | Q7: 010101 | R7: T | S7: F | T7: F | AU7: 0101015CB1734F59E314F4280DEAEA10E5F6 | AV7: 2144
A8: 소 계 | N8: 5D08231E5AB134BA386AD376F00E | R8: F | S8: F | T8: F | AU8: 0101015D08231E5AB134BA386AD376F00E | AV8: 2145
A9: ◇ 철 거 공 사 | N9: 5D09933552BAF4CB88B1F1E2609E3F738A027B | Q9: 010101 | R9: F | S9: F | T9: T | AU9: 0101015D09933552BAF4CB88B1F1E2609E3F738A027B | AV9: 1059
A10: 콘크리트 컷팅 | C10: M | D10: 25 | N10: 5CB073DE55F92454484A2A39F02EF8 | Q10: 010101 | R10: T | S10: F | T10: F | AU10: 0101015CB073DE55F92454484A2A39F02EF8 | AV10: 2180
A11: 콘크리트구조물 헐기(소형장비) | B11: 공압식, 철근 | C11: M3 | D11: 2 | N11: 5CB073DE55F94403C89C2988709112 | Q11: 010101 | R11: T | S11: F | T11: F | AU11: 0101015CB073DE55F94403C89C2988709112 | AV11: 2184
A12: 경량철골천장틀 철거 | B12: 해체재 재사용 안 함, 몰딩 포함 | C12: M2 | D12: 36 | N12: 5CB073DE55DE0419B80E9D4D706DF5 | Q12: 010101 | R12: T | S12: F | T12: F | AU12: 0101015CB073DE55DE0419B80E9D4D706DF5 | AV12: 2183
A13: 합판 철거(천장) | B13: 해체재 재사용 안 함 | C13: M2 | D13: 36 | N13: 5CB073DE55DE041E385FE45F50ECB2 | Q13: 010101 | R13: T | S13: F | T13: F | AU13: 0101015CB073DE55DE041E385FE45F50ECB2 | AV13: 2193
A14: 샌드위치 패널 철거 | C14: M2 | D14: 4 | N14: 5CB073DE55486407F816EDC720541E | Q14: 010101 | R14: T | S14: F | T14: F | AU14: 0101015CB073DE55486407F816EDC720541E | AV14: 1062
A15: 건식벽 철거 | C15: M2 | D15: 14 | N15: 5CB073DE55DE041D28CDEF350030C9 | Q15: 010101 | R15: T | S15: F | T15: F | AU15: 0101015CB073DE55DE041D28CDEF350030C9 | AV15: 2179
A16: 모르타르 철거 | C16: M2 | D16: 13 | N16: 5CB073DE55486407F8040817C08E71 | Q16: 010101 | R16: T | S16: F | T16: F | AU16: 0101015CB073DE55486407F8040817C08E71 | AV16: 2182
A17: 아연도 그레이팅 철거 | C17: M | D17: 5 | N17: 5CB073DE5548546128EC17F9200A7F | Q17: 010101 | R17: T | S17: F | T17: F | AU17: 0101015CB073DE5548546128EC17F9200A7F | AV17: 2181
A18: 비닐계타일 철거 | B18: 바닥 및 수장 부분 | C18: M2 | D18: 20 | N18: 5CB073DE55486407F8040821F09D15 | Q18: 010101 | R18: T | S18: F | T18: F | AU18: 0101015CB073DE55486407F8040821F09D15 | AV18: 2204
A19: 기존가구 이설 | B19: 보통인부 | C19: 인 | D19: 2 | N19: 5CB073DE5548546128EC17F92005F8 | Q19: 010101 | R19: T | S19: F | T19: F | AU19: 0101015CB073DE5548546128EC17F92005F8 | AV19: 2194
A20: 건설폐기물 상차비 (철거) | B20: 중간처리 대상, 15ton 덤프트럭 | C20: TON | D20: 8.449 | N20: 5CB1734F59E3249A8887F79C70DEDB | Q20: 010101 | R20: F | S20: F | T20: T | AU20: 0101015CB1734F59E3249A8887F79C70DEDB | AV20: 1069
A21: 소 계 | N21: 5D08231E5AB134BA386AD376F00E | R21: F | S21: F | T21: F | AU21: 0101015D08231E5AB134BA386AD376F00E | AV21: 1071
A29: [ 합 계 ] | N29: TOTAL
A30: 010102 ▶ 철근·콘크리트공사업 | Q30: 010102
A31: 레미콘 - 광주 | B31: 25-24-15 | C31: M3 | D31: 4 | N31: 5B92D3025838243EF804A8D48081C2F2959996 | Q31: 010102 | R31: F | S31: F | T31: T | AU31: 0101025B92D3025838243EF804A8D48081C2F2959996 | AV31: 2160
A32: 콘크리트 펌프차 타설(벽,기둥,슬래브 등) | B32: 100m3 미만, 슬럼프 15cm, 보통 | C32: 회 | D32: 1 | N32: 5CB123CC5BCC541D3840E7A6E03689 | Q32: 010102 | R32: F | S32: T | T32: F | AU32: 0101025CB123CC5BCC541D3840E7A6E03689 | AV32: 2164
A33: 철근콘크리트용봉강 - 광주 | B33: HD-10, SD400 | C33: TON | D33: 0.138 | N33: 5B92D302582FD41088BFE0D07099FED2CF1BBC | Q33: 010102 | R33: F | S33: F | T33: T | AU33: 0101025B92D302582FD41088BFE0D07099FED2CF1BBC | AV33: 2166
A34: 철근콘크리트용봉강 - 광주 | B34: HD-13, SD400 | C34: TON | D34: 0.45 | N34: 5B92D302582FD41088BFE0D07099FED2CF1BBD | Q34: 010102 | R34: F | S34: F | T34: T | AU34: 0101025B92D302582FD41088BFE0D07099FED2CF1BBD | AV34: 2167
A35: 철근콘크리트용봉강 - 광주 | B35: HD-16, SD400 | C35: TON | D35: 0.219 | N35: 5B92D302582FD41088BFE0D07099FED2CF1BB2 | Q35: 010102 | R35: F | S35: F | T35: T | AU35: 0101025B92D302582FD41088BFE0D07099FED2CF1BB2 | AV35: 2168
A36: 철근, 현장 - 보통 가공 및 조립 | B36: 수직고 7m 미만 | C36: TON | D36: 0.784 | N36: 5CB123C85C30A4D2181C5FDB307DC6 | Q36: 010102 | R36: T | S36: F | T36: F | AU36: 0101025CB123C85C30A4D2181C5FDB307DC6 | AV36: 2165
A37: 유로폼 설치 및 해체 | B37: 보통, 수직고 7m 초과 10m까지 | C37: M2 | D37: 14 | N37: 5CB123CB5930E42008CCC02130BD51 | Q37: 010102 | R37: T | S37: F | T37: F | AU37: 0101025CB123CB5930E42008CCC02130BD51 | AV37: 2162
A38: 합판거푸집 설치 및 해체 | B38: 보통 4회, 수직고 7m까지 | C38: M2 | D38: 6 | N38: 5CB123CB5953B4164826908740C275 | Q38: 010102 | R38: T | S38: F | T38: F | AU38: 0101025CB123CB5953B4164826908740C275 | AV38: 2163
A39: Hilti 설치 | B39: HY 200 | C39: EA | D39: 77 | N39: 5CB123C85C30A4D2181C5F4570BBFC | Q39: 010102 | R39: T | S39: F | T39: F | AU39: 0101025CB123C85C30A4D2181C5F4570BBFC | AV39: 2186
A40: 패드 설치 (레미콘, 철근 포함) | B40: 3000×2500×400 HD13@200(T/B) | C40: EA | D40: 1 | N40: 5CB063FA5D73D49528DE2A4FA0C478 | Q40: 010102 | R40: T | S40: F | T40: F | AU40: 0101025CB063FA5D73D49528DE2A4FA0C478 | AV40: 2205
A55: [ 합 계 ] | N55: TOTAL
A56: 010103 ▶ 습식·방수공사업 | Q56: 010103
A57: ◇ 조 적 공 사 (콘크리트벽돌) | N57: 5D09933552BAF4CB88B1F1E2609E3F738A031D | Q57: 010103 | R57: F | S57: F | T57: T | AU57: 0101035D09933552BAF4CB88B1F1E2609E3F738A031D | AV57: 1103
A58: 콘크리트벽돌 | B58: 콘크리트벽돌, 190×57×90mm, 전남 광주, C종2급 | C58: 매 | D58: 5465 | N58: 5B92D302581D7415688916CF2084C03CC6ED4C | Q58: 010103 | R58: F | S58: F | T58: T | AU58: 0101035B92D302581D7415688916CF2084C03CC6ED4C | AV58: 1104
A59: 1.0B 벽돌쌓기 (지하1층) | B59: 3.6m 이하 | C59: M2 | D59: 31 | N59: 5CB103FD50504446780A47F2D02F8A | Q59: 010103 | R59: T | S59: F | T59: F | AU59: 0101035CB103FD50504446780A47F2D02F8A | AV59: 2198
A60: 1.0B 벽돌쌓기 (1층) | B60: 3.6m 이하 | C60: M2 | D60: 4 | N60: 5CB103FD50504446780A47F2D02EE3 | Q60: 010103 | R60: T | S60: F | T60: F | AU60: 0101035CB103FD50504446780A47F2D02EE3 | AV60: 2199
A61: 벽돌운반 | B61: 인력, 지하1층 | C61: 천매 | D61: 4.841 | N61: 5CB103FD5073346788C0693440421E | Q61: 010103 | R61: T | S61: F | T61: F | AU61: 0101035CB103FD5073346788C0693440421E | AV61: 2147
...
